BEGIN:VCALENDAR
VERSION:2.0
PRODID:-//Tukios.com/
BEGIN:VEVENT
UID:2144eddf-c3c2-44f4-9c4c-05ba4bbe0e0a@regaobits.slaterfuneral.com
DTSTAMP:20260421T092548Z
DTSTART:20260422T220000Z
DTEND:20260423T000000Z
SUMMARY:Visitation
DESCRIPTION:
URL:https://regaobits.slaterfuneral.com/lucille-a-gazda-2026
LOCATION: 730 W Main St  Mt Pleasant PA 15666
GEO:40.1509487;-79.545677
END:VEVENT
END:VCALENDAR