BEGIN:VCALENDAR
VERSION:2.0
PRODID:-//Tukios.com/
BEGIN:VEVENT
UID:143be58f-fde1-4247-8c34-89c9021715a1@regaobits.slaterfuneral.com
DTSTAMP:20260421T095436Z
DTSTART:20260422T180000Z
DTEND:20260422T200000Z
SUMMARY:Visitation
DESCRIPTION:
URL:https://regaobits.slaterfuneral.com/lucille-gazda-1942
LOCATION: 730 W Main St  Mt Pleasant PA 15666
GEO:40.1509487;-79.545677
END:VEVENT
END:VCALENDAR