BEGIN:VCALENDAR
VERSION:2.0
PRODID:-//Tukios.com/
BEGIN:VEVENT
UID:f5fe309a-d263-474a-9195-1e808222bddf@regaobits.slaterfuneral.com
DTSTAMP:20260421T100238Z
DTSTART:20260423T140000Z
DTEND:20260423T150000Z
SUMMARY:Mass
DESCRIPTION:
URL:https://regaobits.slaterfuneral.com/lucille-gazda-1942
LOCATION:  S Silver St  Mount Pleasant PA 15666
GEO:40.1454853;-79.5383832
END:VEVENT
END:VCALENDAR